BEGIN:VCALENDAR
VERSION:2.0
PRODID:-//Nanette Diaz Barragán - ECPv5.0.3.1//NONSGML v1.0//EN
CALSCALE:GREGORIAN
METHOD:PUBLISH
X-WR-CALNAME:Nanette Diaz Barragán
X-ORIGINAL-URL:https://barragan.house.gov
X-WR-CALDESC:Events for Nanette Diaz Barragán
BEGIN:VTIMEZONE
TZID:America/Denver
BEGIN:DAYLIGHT
TZOFFSETFROM:-0700
TZOFFSETTO:-0600
TZNAME:MDT
DTSTART:20200308T090000
END:DAYLIGHT
BEGIN:STANDARD
TZOFFSETFROM:-0600
TZOFFSETTO:-0700
TZNAME:MST
DTSTART:20201101T080000
END:STANDARD
END:VTIMEZONE
BEGIN:VEVENT
DTSTART;TZID=America/Denver:20200611T183000
DTEND;TZID=America/Denver:20200611T183000
DTSTAMP:20201028T144353
CREATED:20200609T155742Z
LAST-MODIFIED:20200609T160924Z
UID:4892-1591900200-1591900200@barragan.house.gov
SUMMARY:6/11 Virtual Town Hall with Rep. Barragán and Supervisor Solis
DESCRIPTION:Join Congresswoman Nanette Diaz Barragán (Calif. 44) and guest Los Angeles County Supervisor Hilda Solis for a Virtual Town Hall on Thursday\, June 11th from 6:30-7:30 PM PST. \nThey will answer your questions and discuss the COVID-19 pandemic\, police violence\, available community resources\, the 2020 Census\, and much more. \nRegister on Zoom here: bit.ly/BarraganTownHall. You can also watch from Facebook Live on the 11th on facebook.com/congresswomanbarragan \nPlease submit your questions for the panelists ahead of time to RSVP.Barragan@mail.house.gov \n
URL:https://barragan.house.gov/event/6-11-virtual-town-hall-with-rep-barragan-and-supervisor-solis/
LOCATION:CA\, United States
CATEGORIES:Community Town Hall
ATTACH;FMTTYPE=image/png:https://barragan.house.gov/wp-content/uploads/2019/03/Untitled-7.png
ORGANIZER;CN="Dave%20Perera":MAILTO:dave.perera@mail.house.gov
END:VEVENT
END:VCALENDAR