BEGIN:VCALENDAR
VERSION:2.0
PRODID:-//Nanette Diaz Barragán - ECPv5.0.3.1//NONSGML v1.0//EN
CALSCALE:GREGORIAN
METHOD:PUBLISH
X-WR-CALNAME:Nanette Diaz Barragán
X-ORIGINAL-URL:https://barragan.house.gov
X-WR-CALDESC:Events for Nanette Diaz Barragán
BEGIN:VTIMEZONE
TZID:UTC
BEGIN:STANDARD
TZOFFSETFROM:+0000
TZOFFSETTO:+0000
TZNAME:UTC
DTSTART:20200101T000000
END:STANDARD
END:VTIMEZONE
BEGIN:VEVENT
DTSTART;TZID=UTC:20200505T130000
DTEND;TZID=UTC:20200505T140000
DTSTAMP:20201028T144359
CREATED:20200428T234005Z
LAST-MODIFIED:20200507T190942Z
UID:4384-1588683600-1588687200@barragan.house.gov
SUMMARY:Virtual Jobs Fair
DESCRIPTION: \n
URL:https://barragan.house.gov/event/virtual-jobs-fair/
LOCATION:CA\, United States
ORGANIZER;CN="Malia%20Blake":MAILTO:malia.blake@house.mail.gov
END:VEVENT
END:VCALENDAR