BEGIN:VCALENDAR
VERSION:2.0
PRODID:-//Nanette Diaz Barragán - ECPv5.0.3.1//NONSGML v1.0//EN
CALSCALE:GREGORIAN
METHOD:PUBLISH
X-WR-CALNAME:Nanette Diaz Barragán
X-ORIGINAL-URL:https://barragan.house.gov
X-WR-CALDESC:Events for Nanette Diaz Barragán
BEGIN:VTIMEZONE
TZID:UTC
BEGIN:STANDARD
TZOFFSETFROM:+0000
TZOFFSETTO:+0000
TZNAME:UTC
DTSTART:20190101T000000
END:STANDARD
END:VTIMEZONE
BEGIN:VEVENT
DTSTART;TZID=UTC:20191012T100000
DTEND;TZID=UTC:20191012T140000
DTSTAMP:20201102T001257
CREATED:20190221T191011Z
LAST-MODIFIED:20190926T174731Z
UID:3051-1570874400-1570888800@barragan.house.gov
SUMMARY:Veterans Welcome Home Event
DESCRIPTION: \n
URL:https://barragan.house.gov/event/veterans-welcome-home-event-2/
LOCATION:ILWU Memorial Hall\, 231 West C Street\, Wilmington\, CA\, 90744\, United States
CATEGORIES:Veterans
ATTACH;FMTTYPE=image/png:https://barragan.house.gov/wp-content/uploads/2019/02/Screen-Shot-2019-09-26-at-1.46.56-PM.png
END:VEVENT
END:VCALENDAR