BEGIN:VCALENDAR
VERSION:2.0
PRODID:-//Nanette Diaz Barragán - ECPv5.0.3.1//NONSGML v1.0//EN
CALSCALE:GREGORIAN
METHOD:PUBLISH
X-WR-CALNAME:Nanette Diaz Barragán
X-ORIGINAL-URL:https://barragan.house.gov
X-WR-CALDESC:Events for Nanette Diaz Barragán
BEGIN:VTIMEZONE
TZID:America/Los_Angeles
BEGIN:DAYLIGHT
TZOFFSETFROM:-0800
TZOFFSETTO:-0700
TZNAME:PDT
DTSTART:20200308T100000
END:DAYLIGHT
BEGIN:STANDARD
TZOFFSETFROM:-0700
TZOFFSETTO:-0800
TZNAME:PST
DTSTART:20201101T090000
END:STANDARD
END:VTIMEZONE
BEGIN:VEVENT
DTSTART;TZID=America/Los_Angeles:20200818T100000
DTEND;TZID=America/Los_Angeles:20200818T100000
DTSTAMP:20201028T144253
CREATED:20200813T203402Z
LAST-MODIFIED:20200813T205512Z
UID:5457-1597744800-1597744800@barragan.house.gov
SUMMARY:Rep. Barragán’s Online Briefing & Health Fair for Older Adults
DESCRIPTION:Our annual health fair is something my office looks forward to every year\, and this year we have a great online event planned for the older adults in my district.\nJoin us on Tuesday\, August 18th from 10am-12pm\, by computer or phone\, for a wonderful morning of entertainment from local performers\, informative presentations\, and updates from Congress on issues that matter to you.\n\n\nWhen: Tuesday August 18\, 10am-12pm PDT\n\n\nRegister at: bit.ly/BriefingAugust18\n\n\nJoin on Zoom or by phone (toll-free) at: +1 (669) 900-6833\, Webinar ID: 812 2565 3305\n\n\nLet us know you will attend by calling (310) 831-1799\, or email RSVP.Barragan@mail.house.gov.\n
URL:https://barragan.house.gov/event/rep-barragans-online-briefing-health-fair-for-older-adults/
LOCATION:CA\, United States
CATEGORIES:Community Town Hall,Healthcare,Seniors
ATTACH;FMTTYPE=image/png:https://barragan.house.gov/wp-content/uploads/2020/08/Senior-Fair_TW_FBcover-2.png
END:VEVENT
END:VCALENDAR