BEGIN:VCALENDAR
VERSION:2.0
PRODID:-//Nanette Diaz Barragán - ECPv5.0.3.1//NONSGML v1.0//EN
CALSCALE:GREGORIAN
METHOD:PUBLISH
X-WR-CALNAME:Nanette Diaz Barragán
X-ORIGINAL-URL:https://barragan.house.gov
X-WR-CALDESC:Events for Nanette Diaz Barragán
BEGIN:VTIMEZONE
TZID:UTC
BEGIN:STANDARD
TZOFFSETFROM:+0000
TZOFFSETTO:+0000
TZNAME:UTC
DTSTART:20190101T000000
END:STANDARD
END:VTIMEZONE
BEGIN:VEVENT
DTSTART;VALUE=DATE:20190406
DTEND;VALUE=DATE:20190407
DTSTAMP:20201102T001208
CREATED:20190221T184653Z
LAST-MODIFIED:20190221T185111Z
UID:3040-1554508800-1554595199@barragan.house.gov
SUMMARY:Interfaith Prayer Breakfast and Legislative Update
DESCRIPTION:Location and time to be determined. \n
URL:https://barragan.house.gov/event/interfaith-prayer-breakfast-and-legislative-update/
END:VEVENT
END:VCALENDAR