BEGIN:VCALENDAR
VERSION:2.0
PRODID:-//Nanette Diaz Barragán - ECPv5.0.3.1//NONSGML v1.0//EN
CALSCALE:GREGORIAN
METHOD:PUBLISH
X-WR-CALNAME:Nanette Diaz Barragán
X-ORIGINAL-URL:https://barragan.house.gov
X-WR-CALDESC:Events for Nanette Diaz Barragán
BEGIN:VTIMEZONE
TZID:UTC
BEGIN:STANDARD
TZOFFSETFROM:+0000
TZOFFSETTO:+0000
TZNAME:UTC
DTSTART:20200101T000000
END:STANDARD
END:VTIMEZONE
BEGIN:VEVENT
DTSTART;TZID=UTC:20200319T190000
DTEND;TZID=UTC:20200319T200000
DTSTAMP:20201028T144338
CREATED:20200327T170010Z
LAST-MODIFIED:20200327T170010Z
UID:4245-1584644400-1584648000@barragan.house.gov
SUMMARY:Coronavirus Telephone Town Hall and Additional Information
DESCRIPTION:This Thursday\, March 19th at 7:00 pm\, I’ll be holding a special telephone town hall on the public health crisis posed by the coronavirus pandemic and COVID-19\, the disease caused by this coronavirus. A health official will join me and we will give local\, state\, and federal updates about how we’re handling this threat\, as well as address any questions you have about how to keep yourself and your loved ones safe. A live Spanish translation of the telephone town hall will be available. \nHabrá traducción en español disponible del ayuntamiento telefónico. \nI want to hear your concerns and answer your questions. \nI look forward to speaking with you. \n
URL:https://barragan.house.gov/event/coronavirus-telephone-town-hall-and-additional-information-2/
ORGANIZER;CN="Malia%20Blake":MAILTO:malia.blake@house.mail.gov
END:VEVENT
END:VCALENDAR