BEGIN:VCALENDAR
VERSION:2.0
PRODID:-//Nanette Diaz Barragán - ECPv5.0.3.1//NONSGML v1.0//EN
CALSCALE:GREGORIAN
METHOD:PUBLISH
X-WR-CALNAME:Nanette Diaz Barragán
X-ORIGINAL-URL:https://barragan.house.gov
X-WR-CALDESC:Events for Nanette Diaz Barragán
BEGIN:VTIMEZONE
TZID:America/Denver
BEGIN:DAYLIGHT
TZOFFSETFROM:-0700
TZOFFSETTO:-0600
TZNAME:MDT
DTSTART:20200308T090000
END:DAYLIGHT
BEGIN:STANDARD
TZOFFSETFROM:-0600
TZOFFSETTO:-0700
TZNAME:MST
DTSTART:20201101T080000
END:STANDARD
END:VTIMEZONE
BEGIN:VEVENT
DTSTART;TZID=America/Denver:20200624T183000
DTEND;TZID=America/Denver:20200624T193000
DTSTAMP:20201028T144334
CREATED:20200617T145355Z
LAST-MODIFIED:20200617T145357Z
UID:5052-1593023400-1593027000@barragan.house.gov
SUMMARY:Barragán EDD Telephone Town Hall 6/24
DESCRIPTION:Sign up to join Congressmember Barragán’s Q&A Telephone Town Hall with California’s Employment Development Department (EDD) to discuss access to unemployment benefits. \nWho: CA-44 constituents\, Congressmember Barragán\, and a representative from the EDD \nWhen: June 24th\, 6:30pm PST \nWhere: Telephone\, sign up here \nWhy: To discuss unemployment benefits\, barriers\, best practices\, and what’s happening in the department currently. \n
URL:https://barragan.house.gov/event/barragan-edd-telephone-town-hall-6-24/
LOCATION:CA\, United States
CATEGORIES:Community Town Hall
ATTACH;FMTTYPE=image/jpeg:https://barragan.house.gov/wp-content/uploads/2020/06/Phonecall2.jpg
END:VEVENT
END:VCALENDAR