BEGIN:VCALENDAR
VERSION:2.0
PRODID:-//Nanette Diaz Barragán - ECPv5.0.3.1//NONSGML v1.0//EN
CALSCALE:GREGORIAN
METHOD:PUBLISH
X-WR-CALNAME:Nanette Diaz Barragán
X-ORIGINAL-URL:https://barragan.house.gov
X-WR-CALDESC:Events for Nanette Diaz Barragán
BEGIN:VTIMEZONE
TZID:UTC
BEGIN:STANDARD
TZOFFSETFROM:+0000
TZOFFSETTO:+0000
TZNAME:UTC
DTSTART:20200101T000000
END:STANDARD
END:VTIMEZONE
BEGIN:VEVENT
DTSTART;TZID=UTC:20200222T100000
DTEND;TZID=UTC:20200222T120000
DTSTAMP:20201101T235541
CREATED:20200206T200343Z
LAST-MODIFIED:20200219T172313Z
UID:3848-1582365600-1582372800@barragan.house.gov
SUMMARY:3rd Annual Black History Month Commemorative & Policy Discussion
DESCRIPTION:SAN PEDRO\, CA — Congresswoman Nanette Diaz Barragán will host the 3rd Annual Black History Month Commemorative & Policy Discussion on Saturday\, February 22\, 2020. The event will be held in the lecture hall of King Drew High School. A reception will be held at 10:30 a.m.\, followed by the program until 11:45 a.m. \nFor additional information and to RSVP\, please contact my office at 310-831-1799 or email rsvp.barragan@mail.house.gov. \n \n
URL:https://barragan.house.gov/event/3rd-annual-black-history-month-commemorative-policy-discussion/
LOCATION:King Drew High School\, 1601 E 120th St\, Los Angeles\, CA\, 90059\, United States
CATEGORIES:Community Town Hall
ATTACH;FMTTYPE=image/png:https://barragan.house.gov/wp-content/uploads/2020/02/Logo1.png
ORGANIZER;CN="Malia%20Blake":MAILTO:malia.blake@house.mail.gov
END:VEVENT
END:VCALENDAR