BEGIN:VCALENDAR
VERSION:2.0
PRODID:-//Nanette Diaz Barragán - ECPv5.0.3.1//NONSGML v1.0//EN
CALSCALE:GREGORIAN
METHOD:PUBLISH
X-WR-CALNAME:Nanette Diaz Barragán
X-ORIGINAL-URL:https://barragan.house.gov
X-WR-CALDESC:Events for Nanette Diaz Barragán
BEGIN:VTIMEZONE
TZID:UTC
BEGIN:STANDARD
TZOFFSETFROM:+0000
TZOFFSETTO:+0000
TZNAME:UTC
DTSTART:20190101T000000
END:STANDARD
END:VTIMEZONE
BEGIN:VEVENT
DTSTART;TZID=UTC:20190906T090000
DTEND;TZID=UTC:20190906T130000
DTSTAMP:20201102T001308
CREATED:20190221T190423Z
LAST-MODIFIED:20190905T184807Z
UID:3048-1567760400-1567774800@barragan.house.gov
SUMMARY:2nd Annual Jobs Fair
DESCRIPTION:#CA44 residents are invited to the 2nd Annual Jobs Fair being held this Friday\, Sept. 6th at Lynwood High School 9AM-1PM! We matched 100 Job-Seekers with good jobs last year! We’re hoping for even more this year.  To attend\, please call my District Office at (310) 831-1799 or email rsvp.barragan@mail.house.gov. \n \nTo see a full list of employers at the jobs fair click here. \n
URL:https://barragan.house.gov/event/2nd-annual-jobs-fair/
LOCATION:Lynwood High School\, 4050 E Imperial Hwy\, Lynwood\, CA\, 90262\, United States
END:VEVENT
END:VCALENDAR